Workbook
Name Bal_sheet: 'Bal. Sheet'!$A$2:$O$39
Name Cash_flows: 'Cash Flow Stmt.'!$A$2:$O$47
Name income_stmt: 'Inc. Stmt.'!$A$2:$O$25

Sheet Valuation Summary
A1: Valuation Summary and Graphics
A3: Green Brick Partners | B3: Min | C3: Difference | D3: Max | G3: Stock Price | H3: Upside
A4: DCF | B4: 54.561933 | C4: 47.824613 | D4: 102.38655 | F4: Target Price | G4: ='DCF Model'!D88*0.7+'Relative Model'!K18*0.3 -> 80.269053 | H4: =(G4-'Relative Model'!D3)/'Relative Model'!D3 -> 0.13824522
A5: Relative | B5: 67.718732 | C5: 35.30783 | D5: 103.02656 | F5: Best Case | G5: ='DCF Model'!I5*0.7+'Relative Model'!K18*0.3 -> 97.282356 | H5: =(G5-'Relative Model'!D3)/'Relative Model'!D3 -> 0.37950022
A6: 52-Week Range | B6: 60.44 | C6: 22.74 | D6: 83.18 | F6: Worst Case | G6: ='DCF Model'!J5*0.7+'Relative Model'!K18*0.3 -> 63.805127 | H6: =(G6-'Relative Model'!D3)/'Relative Model'!D3 -> -0.095219417
A10: Valuation Summary – Equity Value per Share ($)

Sheet Inc. Stmt.
A1: Income Statement
A2: Consolidated Statements of Income - USD ($) shares in Thousands | B2: 2018 | C2: 2019 | D2: 2020 | E2: 2021 | F2: 2022 | G2: 2023 | H2: 2024 | I2: 2025E | J2: 2026E | K2: 2027E | L2: 2028E | M2: 2029E | N2: 2030E | O2: 2031E
A3: Residential Real Estate Revenues | B3: 578893 | C3: 759830 | D3: 930176 | E3: 1309687 | F3: 1703951 | G3: 1769255 | H3: 2070136 | I3: =I5*'Common Inc. Stmt.'!$B$3 -> 2011241.5 | J3: =J5*'Common Inc. Stmt.'!$B$3 -> 2023644.8 | K3: =K5*'Common Inc. Stmt.'!$B$3 -> 2061164.9 | L3: =L5*'Common Inc. Stmt.'!$B$3 -> 2226363.2 | M3: =M5*'Common Inc. Stmt.'!$B$3 -> 2390491.1 | N3: =N5*'Common Inc. Stmt.'!$B$3 -> 2539676.2 | O3: =O5*'Common Inc. Stmt.'!$B$3 -> 2707941
A4: Other Revenues | B4: 44754 | C4: 31830 | D4: 45845 | E4: 93189 | F4: 53842 | G4: 8455 | H4: 28807 | I4: =I5*'Common Inc. Stmt.'!$B$4 -> 82081.572 | J4: =J5*'Common Inc. Stmt.'!$B$4 -> 82587.767 | K4: =K5*'Common Inc. Stmt.'!$B$4 -> 84119.018 | L4: =L5*'Common Inc. Stmt.'!$B$4 -> 90860.989 | M4: =M5*'Common Inc. Stmt.'!$B$4 -> 97559.277 | N4: =N5*'Common Inc. Stmt.'!$B$4 -> 103647.73 | O4: =O5*'Common Inc. Stmt.'!$B$4 -> 110514.85
A5: Total Revenue | B5: 623647 | C5: 791660 | D5: 976021 | E5: 1402876 | F5: 1757793 | G5: 1777710 | H5: 2098943 | I5: =I34 -> 2093323.1 | J5: =J34 -> 2106232.5 | K5: =K34 -> 2145284 | L5: =L34 -> 2317224.2 | M5: =M34 -> 2488050.4 | N5: =N34 -> 2643323.9 | O5: =O34 -> 2818455.9
A6: Residential Real Estate Cost of Revenues | B6: 457151 | C6: 597884 | D6: 705866 | E6: 964364 | F6: 1196914 | G6: 1223079 | H6: 1370888 | I6: =I5*0.65 -> 1360660 | J6: =J5*0.65 -> 1369051.1 | K6: =K5*'Common Inc. Stmt.'!$B$6 -> 1493906.9 | L6: =L5*'Common Inc. Stmt.'!$B$6 -> 1613640.5 | M6: =M5*'Common Inc. Stmt.'!$B$6 -> 1732598.4 | N6: =N5*'Common Inc. Stmt.'!$B$6 -> 1840725.9 | O6: =O5*'Common Inc. Stmt.'!$B$6 -> 1962682.2
A7: Other Cost of Revenues | B7: 36166 | C7: 24694 | D7: 35551 | E7: 76453 | F7: 37854 | G7: 6449 | H7: 24534 | I7: =I5*'Common Inc. Stmt.'!$B$7 -> 64880.149 | J7: =J5*'Common Inc. Stmt.'!$B$7 -> 65280.263 | K7: =K5*'Common Inc. Stmt.'!$B$7 -> 66490.618 | L7: =L5*'Common Inc. Stmt.'!$B$7 -> 71819.708 | M7: =M5*'Common Inc. Stmt.'!$B$7 -> 77114.269 | N7: =N5*'Common Inc. Stmt.'!$B$7 -> 81926.796 | O7: =O5*'Common Inc. Stmt.'!$B$7 -> 87354.809
A8: Total Cost of Revenue | B8: 493317 | C8: 622578 | D8: 741417 | E8: 1040817 | F8: 1234768 | G8: 1229528 | H8: 1395422 | I8: ='Inc. Stmt.'!I5-'Inc. Stmt.'!I9 -> 1431833 | J8: ='Inc. Stmt.'!J5-'Inc. Stmt.'!J9 -> 1474362.8 | K8: =K5-K9 -> 1523151.6 | L8: =L5-L9 -> 1668401.4 | M8: =M5-M9 -> 1810647.6 | N8: =N5-N9 -> 1923646 | O8: =O5-O9 -> 2051096.1
A9: Gross Profit | B9: 130330 | C9: 169082 | D9: 234604 | E9: 362059 | F9: 523025 | G9: 548182 | H9: 703521 | I9: ='Inc. Stmt.'!I5*'Inc. Stmt.'!I42 -> 661490.08 | J9: ='Inc. Stmt.'!J5*'Inc. Stmt.'!J42 -> 631869.76 | K9: =K5*K42 -> 622132.35 | L9: =L5*L42 -> 648822.77 | M9: =M5*M42 -> 677402.77 | N9: =N5*N42 -> 719677.94 | O9: =O5*O42 -> 767359.8
A10: Selling, general and administrative expenses | B10: 56830 | C10: 98659 | D10: 112134 | E10: 134269 | F10: 163943 | G10: 192977 | H10: 226566 | I10: =((I44*'Inc. Stmt.'!I5)-'Inc. Stmt.'!I9)/-1 -> 226288.22 | J10: =((J44*'Inc. Stmt.'!J5)-'Inc. Stmt.'!J9)/-1 -> 203491.02 | K10: =((K44*'Inc. Stmt.'!K5)-'Inc. Stmt.'!K9)/-1 -> 200355.13 | L10: =((L44*'Inc. Stmt.'!L5)-'Inc. Stmt.'!L9)/-1 -> 208950.66 | M10: =((M44*'Inc. Stmt.'!M5)-'Inc. Stmt.'!M9)/-1 -> 217720.34 | N10: =((N44*'Inc. Stmt.'!N5)-'Inc. Stmt.'!N9)/-1 -> 231307.78 | O10: =((O44*'Inc. Stmt.'!O5)-'Inc. Stmt.'!O9)/-1 -> 246632.94
A11: Fair value change in unrealized gain (loss) on liabilities | B11: 1693 | C11: 0 | D11: 0 | E11: 0 | F11: 0 | G11: 0 | H11: 0 | I11: 0 | J11: 0 | K11: 0 | L11: 0 | M11: 0 | N11: 0 | O11: 0
A12: Change in contingent consideration liability | B12: ='Cash Flow Stmt.'!B8 -> 1693 | C12: ='Cash Flow Stmt.'!C8 -> 4906 | D12: ='Cash Flow Stmt.'!D8 -> 368 | E12: ='Cash Flow Stmt.'!E8 -> 0 | F12: ='Cash Flow Stmt.'!F8 -> 0 | G12: ='Cash Flow Stmt.'!G8 -> 0 | H12: ='Cash Flow Stmt.'!H8 -> 0 | I12: 0 | J12: 0 | K12: 0 | L12: 0 | M12: 0 | N12: 0 | O12: 0
A13: Income (Loss) from Equity Method Investments | B13: 7259 | C13: 9809 | D13: 16654 | E13: 19713 | F13: 25626 | G13: 16742 | H13: 5083 | I13: =H5*'Common Inc. Stmt.'!$I$13 -> 5083 | J13: =I5*'Common Inc. Stmt.'!$I$13 -> 5069.3902 | K13: =J5*'Common Inc. Stmt.'!$I$13 -> 5100.653 | L13: =K5*'Common Inc. Stmt.'!$I$13 -> 5195.2237 | M13: =L5*'Common Inc. Stmt.'!$I$13 -> 5611.6105 | N13: =M5*'Common Inc. Stmt.'!$I$13 -> 6025.2994 | O13: =N5*'Common Inc. Stmt.'!$I$13 -> 6401.3246
A14: Other income, net | B14: 2605 | C14: 9003 | D14: 4057 | E14: 9483 | F14: 11757 | G14: 19366 | H14: 29842 | I14: =I5*0.01 -> 20933.231 | J14: =J5*0.01 -> 21062.325 | K14: =K5*0.01 -> 21452.84 | L14: =L5*0.01 -> 23172.242 | M14: =M5*0.01 -> 24880.504 | N14: =N5*0.01 -> 26433.239 | O14: =O5*0.008 -> 22547.647
A15: Income before income taxes | B15: 81671 | C15: 84329 | D15: 142813 | E15: 256986 | F15: 396465 | G15: 391313 | H15: 511880 | I15: =I9-I10 -> 435201.86 | J15: =J9-J10 -> 428378.74 | K15: =K9-K10 -> 421777.22 | L15: =L9-L10 -> 439872.11 | M15: =M9-M10 -> 459682.43 | N15: =N9-N10 -> 488370.17 | O15: =O9-O10 -> 520726.86
A16: Income tax expense | B16: 17136 | C16: 20027 | D16: 25016 | E16: 52605 | F16: 82468 | G16: 84638 | H16: 94725 | I16: =I15*'Tax Rate Calc.'!$B$8 -> 100265.32 | J16: =J15*'Tax Rate Calc.'!$B$8 -> 98693.359 | K16: =K15*'Tax Rate Calc.'!$B$8 -> 97172.448 | L16: =L15*'Tax Rate Calc.'!$B$8 -> 101341.29 | M16: =M15*'Tax Rate Calc.'!$B$8 -> 105905.36 | N16: =N15*'Tax Rate Calc.'!$B$8 -> 112514.67 | O16: =O15*'Tax Rate Calc.'!$B$8 -> 119969.26
A17: Net income | B17: 64535 | C17: 64302 | D17: 117797 | E17: 204381 | F17: 313997 | G17: 306675 | H17: 417155 | I17: =I15-I16 -> 334936.54 | J17: =J15-J16 -> 329685.38 | K17: =K15-K16 -> 324604.78 | L17: =L15-L16 -> 338530.81 | M17: =M15-M16 -> 353777.08 | N17: =N15-N16 -> 375855.5 | O17: =O15-O16 -> 400757.59
A18: Less: Net income attributable to noncontrolling interests | B18: 12912 | C18: 5646 | D18: 4104 | E18: 14171 | F18: 22097 | G18: 22049 | H18: 35572 | I18: =I5*0.0132 -> 27631.864 | J18: =J5*0.0132 -> 27802.269 | K18: =K5*0.0132 -> 28317.748 | L18: =L5*0.0132 -> 30587.359 | M18: =M5*0.0132 -> 32842.265 | N18: =N5*0.0132 -> 34891.876 | O18: =O5*0.0132 -> 37203.617
A19: Net income attributable to Green Brick Partners, Inc. | B19: 51623 | C19: 58656 | D19: 113693 | E19: 190210 | F19: 291900 | G19: 284626 | H19: 381583 | I19: =I17-I18 -> 307304.67 | J19: =J17-J18 -> 301883.11 | K19: =K17-K18 -> 296287.03 | L19: =L17-L18 -> 307943.45 | M19: =M17-M18 -> 320934.81 | N19: =N17-N18 -> 340963.62 | O19: =O17-O18 -> 363553.98
A21: Net income attributable to Green Brick Partners, Inc. per common share:
A22: Earnings Per Share, Basic | B22: 1.02 | C22: 1.16 | D22: 2.25 | E22: 3.75 | F22: 6.07 | G22: 6.2 | H22: 8.51 | I22: =I19/I24 -> 6.879288 | J22: =J19/J24 -> 6.7583755 | K22: =K19/K24 -> 6.6484243 | L22: =L19/L24 -> 6.9088992 | M22: =M19/M24 -> 7.2149366 | N22: =N19/N24 -> 7.6633094 | O22: =O19/O24 -> 8.2057099
A23: Earnings Per Share, Diluted | B23: 1.02 | C23: 1.16 | D23: 2.24 | E23: 3.72 | F23: 6.02 | G23: 6.14 | H23: 8.45 | I23: =I19/I25 -> 6.8060036 | J23: =J19/J25 -> 6.6863743 | K23: =K19/K25 -> 6.5774326 | L23: =L19/L25 -> 6.8351376 | M23: =M19/M25 -> 7.1377535 | N23: =N19/N25 -> 7.5813498 | O23: =O19/O25 -> 8.1175809
A24: Weighted Average Number of Shares Outstanding, Diluted | B24: 50751 | C24: 50530 | D24: 50568 | E24: 51060 | F24: 47987 | G24: 45917 | H24: 44839 | I24: =44671 -> 44671 | J24: 44668 | K24: 44565 | L24: 44572 | M24: 44482 | N24: 44493 | O24: 44305
A25: Weighted Average Number of Shares Outstanding, Basic | B25: 50652 | C25: 50636 | D25: 50795 | E25: 50700 | F25: 47648 | G25: 45446 | H25: 44508 | I25: =I24+481 -> 45152 | J25: =J24+481 -> 45149 | K25: =K24+481 -> 45046 | L25: =L24+481 -> 45053 | M25: =M24+481 -> 44963 | N25: =N24+481 -> 44974 | O25: =O24+481 -> 44786
A29: Assumptions | B29: 2018 | C29: 2019 | D29: 2020 | E29: 2021 | F29: 2022 | G29: 2023 | H29: 2024 | I29: 2025 | J29: 2026E | K29: 2027E | L29: 2028E | M29: 2029E | N29: 2030E | O29: 2031E
A30: Central Units Delivered | B30: 635 | C30: 907 | D30: 1545 | E30: 2036 | F30: 2030 | G30: 2234 | H30: 2722.4858 | I30: =H30*(1+I36) -> 2858.6101 | J30: =I30*(1+J36) -> 3001.5406 | K30: =J30*(1+K36) -> 3241.6639 | L30: =K30*(1+L36) -> 3500.997 | M30: =L30*(1+M36) -> 3781.0768 | N30: =M30*(1+N36) -> 4026.8467 | O30: =N30*(1+O36) -> 4228.1891
A31: Southeast Units Delivered | B31: 770 | C31: 902 | D31: 788 | E31: 798 | F31: 991 | G31: 906 | H31: 1060.5142 | I31: =H31*(1+I37) -> 1113.5399 | J31: =I31*(1+J37) -> 1169.2169 | K31: =J31*(1+K37) -> 1227.6777 | L31: =K31*(1+L37) -> 1276.7848 | M31: =L31*(1+M37) -> 1327.8562 | N31: =M31*(1+N37) -> 1367.6919 | O31: =N31*(1+O37) -> 1408.7227
A32: Total Homes Delivered | B32: =SUM(B30:B31) -> 1405 | C32: =SUM(C30:C31) -> 1809 | D32: =SUM(D30:D31) -> 2333 | E32: =SUM(E30:E31) -> 2834 | F32: =SUM(F30:F31) -> 3021 | G32: =SUM(G30:G31) -> 3140 | H32: =SUM(H30:H31) -> 3783 | I32: =SUM(I30:I31) -> 3972.15 | ... O32: =SUM(O30:O31) -> 5636.9117
A33: Average Price | B33: 443800 | C33: 437600 | D33: 418400 | E33: 460700 | F33: 581900 | G33: 566100 | H33: 547100 | I33: 527000 | J33: 505000 | K33: 480000 | L33: 485000 | M33: 487000 | N33: 490000 | O33: 500000
A34: Total Revenue | B34: =(B32*B33)/1000 -> 623539 | C34: =(C32*C33)/1000 -> 791618.4 | D34: =(D32*D33)/1000 -> 976127.2 | E34: =(E32*E33)/1000 -> 1305623.8 | F34: =(F32*F33)/1000 -> 1757919.9 | G34: =(G32*G33)/1000 -> 1777554 | H34: =(H32*H33)/1000 -> 2069679.3 | I34: =(I32*I33)/1000 -> 2093323.1 | ... O34: =(O32*O33)/1000 -> 2818455.9
A36: Central Unit's Delivered Growth % | C36: =(C30-B30)/B30 -> 0.42834646 | D36: =(D30-C30)/C30 -> 0.70341786 | E36: =(E30-D30)/D30 -> 0.31779935 | F36: =(F30-E30)/E30 -> -0.0029469548 | G36: =(G30-F30)/F30 -> 0.10049261 | H36: =(H30-G30)/G30 -> 0.21865973 | I36: 0.05 | J36: 0.05 | K36: 0.08 | L36: 0.08 | M36: 0.08 | N36: 0.065 | O36: 0.05
A37: Southeast Unit's Delivered Growth % | C37: =(C31-B31)/B31 -> 0.17142857 | D37: =(D31-C31)/C31 -> -0.12638581 | E37: =(E31-D31)/D31 -> 0.012690355 | F37: =(F31-E31)/E31 -> 0.24185464 | G37: =(G31-F31)/F31 -> -0.085771948 | H37: =(H31-G31)/G31 -> 0.17054544 | I37: 0.05 | J37: 0.05 | K37: 0.05 | L37: 0.04 | M37: 0.04 | N37: 0.03 | O37: 0.03
A38: Total Homes Delivered Growth % | C38: =(C32-B32)/B32 -> 0.28754448 | D38: =(D32-C32)/C32 -> 0.2896628 | E38: =(E32-D32)/D32 -> 0.21474496 | F38: =(F32-E32)/E32 -> 0.065984474 | G38: =(G32-F32)/F32 -> 0.03939093 | H38: =(H32-G32)/G32 -> 0.20477707 | I38: =(I32-H32)/H32 -> 0.05 | J38: =(J32-I32)/I32 -> 0.05 | ... O38: =(O32-N32)/N32 -> 0.044929346
A39: Average Selling Price Growth % | C39: =(C33-B33)/B33 -> -0.013970257 | D39: =(D33-C33)/C33 -> -0.043875686 | E39: =(E33-D33)/D33 -> 0.10109943 | F39: =(F33-E33)/E33 -> 0.26307792 | G39: =(G33-F33)/F33 -> -0.027152432 | H39: =(H33-G33)/G33 -> -0.033562975 | I39: =(I33-H33)/H33 -> -0.03673917 | J39: =(J33-I33)/I33 -> -0.041745731 | ... O39: =(O33-N33)/N33 -> 0.020408163
A40: Total Revenue Growth % | C40: =(C34-B34)/B34 -> 0.26955716 | D40: =(D34-C34)/C34 -> 0.23307796 | E40: =(E34-D34)/D34 -> 0.33755498 | F40: =(F34-E34)/E34 -> 0.34642146 | G40: =(G34-F34)/F34 -> 0.011168939 | H40: =(H34-G34)/G34 -> 0.16434117 | I40: =(I34-H34)/H34 -> 0.011423871 | J40: =(J34-I34)/I34 -> 0.0061669829 | ... O40: =(O34-N34)/N34 -> 0.066254435
A42: Gross Margin Assumptions | B42: =B9/B5 -> 0.2089804 | C42: =C9/C5 -> 0.21357906 | D42: =D9/D5 -> 0.24036778 | E42: =E9/E5 -> 0.25808339 | F42: =F9/F5 -> 0.29754641 | G42: =G9/G5 -> 0.30836413 | H42: =H9/H5 -> 0.33517871 | I42: 0.316 | J42: 0.3 | K42: 0.29 | L42: 0.28 | M42: ='Common Inc. Stmt.'!$B$9 -> 0.27226249 | N42: ='Common Inc. Stmt.'!$B$9 -> 0.27226249 | O42: ='Common Inc. Stmt.'!$B$9 -> 0.27226249
A43: EBITDA Margin | B43: =(B15+'Cash Flow Stmt.'!B5)/B5 -> 0.13567611 | C43: =(C15+'Cash Flow Stmt.'!C5)/C5 -> 0.11041104 | D43: =(D15+'Cash Flow Stmt.'!D5)/D5 -> 0.15007771 | E43: =(E15+'Cash Flow Stmt.'!E5)/E5 -> 0.1851411 | F43: =(F15+'Cash Flow Stmt.'!F5)/F5 -> 0.22689361 | G43: =(G15+'Cash Flow Stmt.'!G5)/G5 -> 0.22211609 | H43: =(H15+'Cash Flow Stmt.'!H5)/H5 -> 0.24619963 | I43: =(I15+'Cash Flow Stmt.'!I5)/I5 -> 0.20978841 | ... O43: =(O15+'Cash Flow Stmt.'!O5)/O5 -> 0.18664449
A44: Operating Margin Assumptions | B44: =(B9-B10)/B5 -> 0.11785513 | C44: =(C9-C10)/C5 -> 0.088956118 | D44: =(D9-D10)/D5 -> 0.12547886 | E44: =(E9-E10)/E5 -> 0.16237358 | F44: =(F9-F10)/F5 -> 0.20428003 | G44: =(G9-G10)/G5 -> 0.19981043 | H44: =(H9-H10)/H5 -> 0.2272358 | I44: 0.2079 | J44: 0.20338625 | K44: 0.19660671 | L44: 0.18982717 | M44: 0.18475608 | N44: 0.18475608 | O44: 0.18475608
A49: Analysis
A50: Units -4-year CAGR | B50: =(I32/E32)^(1/4)-1 -> 0.088069029
...

Sheet Common Inc. Stmt.
A1: Common-Size Income Statement
A2: Commong Consolidated Statements of Income - USD ($) shares in Thousands | B2: Avg 2018–2025E | C2: 2018 | D2: 2019 | E2: 2020 | F2: 2021 | G2: 2022 | H2: 2023 | I2: 2024 | J2: 2025E
A3: Residential Real Estate Revenues | B3: =AVERAGE(C3:I3) -> 0.96078887 | C3: ='Inc. Stmt.'!B3/'Inc. Stmt.'!B$5 -> 0.92823825 | D3: ='Inc. Stmt.'!C3/'Inc. Stmt.'!C$5 -> 0.95979335 | E3: ='Inc. Stmt.'!D3/'Inc. Stmt.'!D$5 -> 0.95302867 | F3: ='Inc. Stmt.'!E3/'Inc. Stmt.'!E$5 -> 0.93357289 | G3: ='Inc. Stmt.'!F3/'Inc. Stmt.'!F$5 -> 0.96936954 | H3: ='Inc. Stmt.'!G3/'Inc. Stmt.'!G$5 -> 0.99524388 | I3: ='Inc. Stmt.'!H3/'Inc. Stmt.'!H$5 -> 0.98627547 | J3: ='Inc. Stmt.'!I3/'Inc. Stmt.'!I$5 -> 0.96078887
A4: Other Revenues | B4: =AVERAGE(C4:I4) -> 0.039211135 | C4: ='Inc. Stmt.'!B4/'Inc. Stmt.'!B$5 -> 0.07176175 | D4: ='Inc. Stmt.'!C4/'Inc. Stmt.'!C$5 -> 0.040206654 | E4: ='Inc. Stmt.'!D4/'Inc. Stmt.'!D$5 -> 0.046971325 | F4: ='Inc. Stmt.'!E4/'Inc. Stmt.'!E$5 -> 0.066427111 | G4: ='Inc. Stmt.'!F4/'Inc. Stmt.'!F$5 -> 0.030630455 | H4: ='Inc. Stmt.'!G4/'Inc. Stmt.'!G$5 -> 0.0047561188 | I4: ='Inc. Stmt.'!H4/'Inc. Stmt.'!H$5 -> 0.013724527 | J4: ='Inc. Stmt.'!I4/'Inc. Stmt.'!I$5 -> 0.039211135
A5: Total Revenue | B5: =AVERAGE(C5:J5) -> 1 | C5: ='Inc. Stmt.'!B5/'Inc. Stmt.'!B$5 -> 1 | D5: ='Inc. Stmt.'!C5/'Inc. Stmt.'!C$5 -> 1 | E5: ='Inc. Stmt.'!D5/'Inc. Stmt.'!D$5 -> 1 | F5: ='Inc. Stmt.'!E5/'Inc. Stmt.'!E$5 -> 1 | G5: ='Inc. Stmt.'!F5/'Inc. Stmt.'!F$5 -> 1 | H5: ='Inc. Stmt.'!G5/'Inc. Stmt.'!G$5 -> 1 | I5: ='Inc. Stmt.'!H5/'Inc. Stmt.'!H$5 -> 1 | J5: ='Inc. Stmt.'!I5/'Inc. Stmt.'!I$5 -> 1
A6: Residential Real Estate Cost of Revenues | B6: =AVERAGE(C6:J6) -> 0.69636789 | C6: ='Inc. Stmt.'!B6/'Inc. Stmt.'!B$5 -> 0.73302846 | D6: ='Inc. Stmt.'!C6/'Inc. Stmt.'!C$5 -> 0.75522825 | E6: ='Inc. Stmt.'!D6/'Inc. Stmt.'!D$5 -> 0.7232078 | F6: ='Inc. Stmt.'!E6/'Inc. Stmt.'!E$5 -> 0.68741927 | G6: ='Inc. Stmt.'!F6/'Inc. Stmt.'!F$5 -> 0.68091863 | H6: ='Inc. Stmt.'!G6/'Inc. Stmt.'!G$5 -> 0.68800817 | I6: ='Inc. Stmt.'!H6/'Inc. Stmt.'!H$5 -> 0.65313255 | J6: ='Inc. Stmt.'!I6/'Inc. Stmt.'!I$5 -> 0.65
A7: Other Cost of Revenues | B7: =AVERAGE(C7:I7) -> 0.030993854 | C7: ='Inc. Stmt.'!B7/'Inc. Stmt.'!B$5 -> 0.057991139 | D7: ='Inc. Stmt.'!C7/'Inc. Stmt.'!C$5 -> 0.031192684 | E7: ='Inc. Stmt.'!D7/'Inc. Stmt.'!D$5 -> 0.036424421 | F7: ='Inc. Stmt.'!E7/'Inc. Stmt.'!E$5 -> 0.054497333 | G7: ='Inc. Stmt.'!F7/'Inc. Stmt.'!F$5 -> 0.021534959 | H7: ='Inc. Stmt.'!G7/'Inc. Stmt.'!G$5 -> 0.0036277008 | I7: ='Inc. Stmt.'!H7/'Inc. Stmt.'!H$5 -> 0.01168874 | J7: ='Inc. Stmt.'!I7/'Inc. Stmt.'!I$5 -> 0.030993854
A8: Total Cost of Revenue | B8: =AVERAGE(C8:J8) -> 0.72773751 | C8: ='Inc. Stmt.'!B8/'Inc. Stmt.'!B$5 -> 0.7910196 | D8: ='Inc. Stmt.'!C8/'Inc. Stmt.'!C$5 -> 0.78642094 | E8: ='Inc. Stmt.'!D8/'Inc. Stmt.'!D$5 -> 0.75963222 | F8: ='Inc. Stmt.'!E8/'Inc. Stmt.'!E$5 -> 0.74191661 | G8: ='Inc. Stmt.'!F8/'Inc. Stmt.'!F$5 -> 0.70245359 | H8: ='Inc. Stmt.'!G8/'Inc. Stmt.'!G$5 -> 0.69163587 | I8: ='Inc. Stmt.'!H8/'Inc. Stmt.'!H$5 -> 0.66482129 | J8: ='Inc. Stmt.'!I8/'Inc. Stmt.'!I$5 -> 0.684
A9: Gross Profit | B9: =AVERAGE(C9:J9) -> 0.27226249 | C9: ='Inc. Stmt.'!B9/'Inc. Stmt.'!B$5 -> 0.2089804 | D9: ='Inc. Stmt.'!C9/'Inc. Stmt.'!C$5 -> 0.21357906 | E9: ='Inc. Stmt.'!D9/'Inc. Stmt.'!D$5 -> 0.24036778 | F9: ='Inc. Stmt.'!E9/'Inc. Stmt.'!E$5 -> 0.25808339 | G9: ='Inc. Stmt.'!F9/'Inc. Stmt.'!F$5 -> 0.29754641 | H9: ='Inc. Stmt.'!G9/'Inc. Stmt.'!G$5 -> 0.30836413 | I9: ='Inc. Stmt.'!H9/'Inc. Stmt.'!H$5 -> 0.33517871 | J9: ='Inc. Stmt.'!I9/'Inc. Stmt.'!I$5 -> 0.316
A10: Selling, general and administrative expenses | B10: =AVERAGE(C10:J10) -> 0.10552624 | C10: ='Inc. Stmt.'!B10/'Inc. Stmt.'!B$5 -> 0.091125268 | D10: ='Inc. Stmt.'!C10/'Inc. Stmt.'!C$5 -> 0.12462294 | E10: ='Inc. Stmt.'!D10/'Inc. Stmt.'!D$5 -> 0.11488892 | F10: ='Inc. Stmt.'!E10/'Inc. Stmt.'!E$5 -> 0.095709813 | G10: ='Inc. Stmt.'!F10/'Inc. Stmt.'!F$5 -> 0.093266386 | H10: ='Inc. Stmt.'!G10/'Inc. Stmt.'!G$5 -> 0.1085537 | I10: ='Inc. Stmt.'!H10/'Inc. Stmt.'!H$5 -> 0.1079429 | J10: ='Inc. Stmt.'!I10/'Inc. Stmt.'!I$5 -> 0.1081
A11: Fair value change in unrealized gain (loss) on liabilities | B11: =AVERAGE(C11:J11) -> 0.00033933459 | C11: ='Inc. Stmt.'!B11/'Inc. Stmt.'!B$5 -> 0.0027146767 | D11: ='Inc. Stmt.'!C11/'Inc. Stmt.'!C$5 -> 0 | E11: ='Inc. Stmt.'!D11/'Inc. Stmt.'!D$5 -> 0 | F11: ='Inc. Stmt.'!E11/'Inc. Stmt.'!E$5 -> 0 | G11: ='Inc. Stmt.'!F11/'Inc. Stmt.'!F$5 -> 0 | H11: ='Inc. Stmt.'!G11/'Inc. Stmt.'!G$5 -> 0 | I11: ='Inc. Stmt.'!H11/'Inc. Stmt.'!H$5 -> 0 | J11: ='Inc. Stmt.'!I11/'Inc. Stmt.'!I$5 -> 0
A12: Change in contingent consideration liability | B12: =AVERAGE(C12:J12) -> 0.0011611028 | C12: ='Inc. Stmt.'!B12/'Inc. Stmt.'!B$5 -> 0.0027146767 | D12: ='Inc. Stmt.'!C12/'Inc. Stmt.'!C$5 -> 0.0061971048 | E12: ='Inc. Stmt.'!D12/'Inc. Stmt.'!D$5 -> 0.00037704107 | F12: ='Inc. Stmt.'!E12/'Inc. Stmt.'!E$5 -> 0 | G12: ='Inc. Stmt.'!F12/'Inc. Stmt.'!F$5 -> 0 | H12: ='Inc. Stmt.'!G12/'Inc. Stmt.'!G$5 -> 0 | I12: ='Inc. Stmt.'!H12/'Inc. Stmt.'!H$5 -> 0 | J12: ='Inc. Stmt.'!I12/'Inc. Stmt.'!I$5 -> 0
A13: Income (Loss) from Equity Method Investments | B13: =AVERAGE(C13:J13) -> 0.010498895 | C13: ='Inc. Stmt.'!B13/'Inc. Stmt.'!B$5 -> 0.011639597 | D13: ='Inc. Stmt.'!C13/'Inc. Stmt.'!C$5 -> 0.01239042 | E13: ='Inc. Stmt.'!D13/'Inc. Stmt.'!D$5 -> 0.017063157 | F13: ='Inc. Stmt.'!E13/'Inc. Stmt.'!E$5 -> 0.014051848 | G13: ='Inc. Stmt.'!F13/'Inc. Stmt.'!F$5 -> 0.014578508 | H13: ='Inc. Stmt.'!G13/'Inc. Stmt.'!G$5 -> 0.0094177341 | I13: ='Inc. Stmt.'!H13/'Inc. Stmt.'!H$5 -> 0.0024216951 | J13: ='Inc. Stmt.'!I13/'Inc. Stmt.'!I$5 -> 0.0024281966
A14: Other income, net | B14: =AVERAGE(C14:J14) -> 0.0085332038 | C14: ='Inc. Stmt.'!B14/'Inc. Stmt.'!B$5 -> 0.0041770425 | D14: ='Inc. Stmt.'!C14/'Inc. Stmt.'!C$5 -> 0.011372306 | E14: ='Inc. Stmt.'!D14/'Inc. Stmt.'!D$5 -> 0.0041566729 | F14: ='Inc. Stmt.'!E14/'Inc. Stmt.'!E$5 -> 0.0067596851 | G14: ='Inc. Stmt.'!F14/'Inc. Stmt.'!F$5 -> 0.0066885009 | H14: ='Inc. Stmt.'!G14/'Inc. Stmt.'!G$5 -> 0.01089379 | I14: ='Inc. Stmt.'!H14/'Inc. Stmt.'!H$5 -> 0.014217632 | J14: ='Inc. Stmt.'!I14/'Inc. Stmt.'!I$5 -> 0.01
A15: Income before income taxes | B15: =AVERAGE(C15:J15) -> 0.18305371 | C15: ='Inc. Stmt.'!B15/'Inc. Stmt.'!B$5 -> 0.1309571 | D15: ='Inc. Stmt.'!C15/'Inc. Stmt.'!C$5 -> 0.10652174 | E15: ='Inc. Stmt.'!D15/'Inc. Stmt.'!D$5 -> 0.14632165 | F15: ='Inc. Stmt.'!E15/'Inc. Stmt.'!E$5 -> 0.18318511 | G15: ='Inc. Stmt.'!F15/'Inc. Stmt.'!F$5 -> 0.22554704 | H15: ='Inc. Stmt.'!G15/'Inc. Stmt.'!G$5 -> 0.22012195 | I15: ='Inc. Stmt.'!H15/'Inc. Stmt.'!H$5 -> 0.24387513 | J15: ='Inc. Stmt.'!I15/'Inc. Stmt.'!I$5 -> 0.2079
A16: Income tax expense | B16: =AVERAGE(C16:J16) -> 0.037932126 | C16: ='Inc. Stmt.'!B16/'Inc. Stmt.'!B$5 -> 0.027477082 | D16: ='Inc. Stmt.'!C16/'Inc. Stmt.'!C$5 -> 0.025297476 | E16: ='Inc. Stmt.'!D16/'Inc. Stmt.'!D$5 -> 0.025630596 | F16: ='Inc. Stmt.'!E16/'Inc. Stmt.'!E$5 -> 0.037497968 | G16: ='Inc. Stmt.'!F16/'Inc. Stmt.'!F$5 -> 0.046915649 | H16: ='Inc. Stmt.'!G16/'Inc. Stmt.'!G$5 -> 0.04761069 | I16: ='Inc. Stmt.'!H16/'Inc. Stmt.'!H$5 -> 0.045129858 | J16: ='Inc. Stmt.'!I16/'Inc. Stmt.'!I$5 -> 0.047897683
A17: Net income | B17: =AVERAGE(C17:J17) -> 0.14512159 | C17: ='Inc. Stmt.'!B17/'Inc. Stmt.'!B$5 -> 0.10348001 | D17: ='Inc. Stmt.'!C17/'Inc. Stmt.'!C$5 -> 0.081224263 | E17: ='Inc. Stmt.'!D17/'Inc. Stmt.'!D$5 -> 0.12069105 | F17: ='Inc. Stmt.'!E17/'Inc. Stmt.'!E$5 -> 0.14568715 | G17: ='Inc. Stmt.'!F17/'Inc. Stmt.'!F$5 -> 0.17863139 | H17: ='Inc. Stmt.'!G17/'Inc. Stmt.'!G$5 -> 0.17251126 | I17: ='Inc. Stmt.'!H17/'Inc. Stmt.'!H$5 -> 0.19874527 | J17: ='Inc. Stmt.'!I17/'Inc. Stmt.'!I$5 -> 0.16000232
A18: Less: Net income attributable to noncontrolling interests | B18: =AVERAGE(C18:J18) -> 0.012157947 | C18: ='Inc. Stmt.'!B18/'Inc. Stmt.'!B$5 -> 0.02070402 | D18: ='Inc. Stmt.'!C18/'Inc. Stmt.'!C$5 -> 0.0071318495 | E18: ='Inc. Stmt.'!D18/'Inc. Stmt.'!D$5 -> 0.0042048276 | F18: ='Inc. Stmt.'!E18/'Inc. Stmt.'!E$5 -> 0.010101392 | G18: ='Inc. Stmt.'!F18/'Inc. Stmt.'!F$5 -> 0.012570877 | H18: ='Inc. Stmt.'!G18/'Inc. Stmt.'!G$5 -> 0.012403035 | I18: ='Inc. Stmt.'!H18/'Inc. Stmt.'!H$5 -> 0.016947578 | J18: ='Inc. Stmt.'!I18/'Inc. Stmt.'!I$5 -> 0.0132
A19: Net income attributable to Green Brick Partners, Inc. | B19: =AVERAGE(C19:J19) -> 0.13296364 | C19: ='Inc. Stmt.'!B19/'Inc. Stmt.'!B$5 -> 0.082775993 | D19: ='Inc. Stmt.'!C19/'Inc. Stmt.'!C$5 -> 0.074092413 | E19: ='Inc. Stmt.'!D19/'Inc. Stmt.'!D$5 -> 0.11648622 | F19: ='Inc. Stmt.'!E19/'Inc. Stmt.'!E$5 -> 0.13558575 | G19: ='Inc. Stmt.'!F19/'Inc. Stmt.'!F$5 -> 0.16606051 | H19: ='Inc. Stmt.'!G19/'Inc. Stmt.'!G$5 -> 0.16010823 | I19: ='Inc. Stmt.'!H19/'Inc. Stmt.'!H$5 -> 0.1817977 | J19: ='Inc. Stmt.'!I19/'Inc. Stmt.'!I$5 -> 0.14680232

Sheet Q Inc. Stmt.
A1: Quarterly Income Statement
A2: Consolidated Statements of Income - USD ($) shares in Thousands, $ in Thousands | B2: 1Q22 | C2: 2Q22 | D2: 3Q22 | E2: 4Q22 | F2: 1Q23 | G2: 2Q23 | H2: 3Q23 | I2: 4Q23 | J2: 1Q24 | K2: 2Q24 | L2: 3Q24 | M2: 4Q24 | N2: 1Q25 | O2: 2Q25 | P2: 3Q25 | Q2: 4Q25E
A3: Residential Real Estate Revenues | B3: 364661 | C3: 512515 | D3: 396749 | E3: 430026 | F3: 450362 | G3: 454445 | H3: 415923 | I3: 448525 | J3: 443284 | K3: 547138 | L3: 522859 | M3: 556855 | N3: 495317 | O3: 547109 | P3: 499091 | Q3: =M3*(1+1.15%) -> 563258.83
A4: Other Revenues | B4: 28955 | C4: 12629 | D4: 11195 | E4: 1063 | F4: 1699 | G4: 1844 | H4: 3055 | I4: 1857 | J4: 4054 | K4: 13493 | L4: 801 | M4: 10459 | N4: 2304 | O4: 2038 | P4: 0 | Q4: =M4*(1+1.15%) -> 10579.279
A5: Total Revenue | B5: =B3+B4 -> 393616 | C5: =C3+C4 -> 525144 | D5: =D3+D4 -> 407944 | E5: =E3+E4 -> 431089 | F5: =F3+F4 -> 452061 | G5: =G3+G4 -> 456289 | H5: =H3+H4 -> 418978 | I5: =I3+I4 -> 450382 | ... Q5: =Q3+Q4 -> 573838.11
A6: Residential Real Estate Cost of Revenues | B6: 263430 | C6: 347142 | D6: 268536 | E6: 317806 | F6: 326124 | G6: 312030 | H6: 277446 | I6: 307479 | J6: 295313 | K6: 358183 | L6: 351666 | M6: 365726 | N6: 340621 | O6: 380656 | P6: 343629 | Q6: =M6*(1+1.15%) -> 369931.85
A7: Other Cost of Revenues | B7: 21830 | C7: 9106 | D7: 6089 | E7: 829 | F7: 1331 | G7: 1324 | H7: 2519 | I7: 1275 | J7: 3768 | K7: 12782 | L7: 431 | M7: 7553 | N7: 1215 | O7: 977 | P7: 0 | Q7: =M7*(1+1.15%) -> 7639.8595
A8: Total Cost of Revenue | B8: =B6+B7 -> 285260 | C8: =C6+C7 -> 356248 | D8: =D6+D7 -> 274625 | E8: =E6+E7 -> 318635 | F8: =F6+F7 -> 327455 | G8: =G6+G7 -> 313354 | H8: =H6+H7 -> 279965 | I8: =I6+I7 -> 308754 | ... Q8: =Q6+Q7 -> 377571.71
A9: Gross Profit | B9: =B5-B8 -> 108356 | C9: =C5-C8 -> 168896 | D9: =D5-D8 -> 133319 | E9: =E5-E8 -> 112454 | F9: =F5-F8 -> 124606 | G9: =G5-G8 -> 142935 | H9: =H5-H8 -> 139013 | I9: =I5-I8 -> 141628 | ... Q9: =Q5-Q8 -> 196266.4
A10: Selling, general and administrative expenses | B10: 34265 | C10: 41798 | D10: 43251 | E10: 44629 | F10: 45945 | G10: 49229 | H10: 46884 | I10: 50919 | J10: 50570 | K10: 57602 | L10: 57740 | M10: 60654 | N10: 54895 | O10: 59772 | P10: 58140 | Q10: =M10*(1+1.15%) -> 61351.521
A11: Income (Loss) from Equity Method Investments | B11: 5687 | C11: 8523 | D11: 5697 | E11: 5719 | F11: 4221 | G11: 5699 | H11: 1345 | I11: 5477 | J11: 2592 | K11: 1186 | L11: 992 | M11: 313 | N11: 473 | O11: 511 | P11: 422 | Q11: =M11*(1+1.15%) -> 316.5995
A12: Other income, net | B12: 2855 | C12: 2661 | D12: 1831 | E12: 4410 | F12: 4290 | G12: 4807 | H12: 4612 | I12: 5657 | J12: 15354 | K12: 5927 | L12: 4161 | M12: 4400 | N12: 4785 | O12: 4035 | P12: 8891 | Q12: =M12*(1+1.15%) -> 4450.6
A13: Income before income taxes | B13: =B9-B10+B11+B12 -> 82633 | C13: =C9-C10+C11+C12 -> 138282 | D13: =D9-D10+D11+D12 -> 97596 | E13: =E9-E10+E11+E12 -> 77954 | F13: =F9-F10+F11+F12 -> 87172 | G13: =G9-G10+G11+G12 -> 104212 | H13: =H9-H10+H11+H12 -> 98086 | I13: =I9-I10+I11+I12 -> 101843 | ... Q13: =Q9-Q10+Q11+Q12 -> 139682.08
A14: Income tax expense | B14: 18437 | C14: 30278 | D14: 16963 | E14: 16790 | F14: 19031 | G14: 23148 | H14: 20975 | I14: 21484 | J14: 24842 | K14: 23896 | L14: 23078 | M14: 22909 | N14: 22223 | O14: 22957 | P14: 23226 | Q14: =M14*(1+1.15%) -> 23172.454
A15: Net income | B15: =B13-B14 -> 64196 | C15: =C13-C14 -> 108004 | D15: =D13-D14 -> 80633 | E15: =E13-E14 -> 61164 | F15: =F13-F14 -> 68141 | G15: =G13-G14 -> 81064 | H15: =H13-H14 -> 77111 | I15: =I13-I14 -> 80359 | ... Q15: =Q13-Q14 -> 116509.63
A16: Less: Net income attributable to noncontrolling interests | B16: 2619 | C16: 6748 | D16: 7113 | E16: 5617 | F16: 3961 | G16: 5794 | H16: 4955 | I16: 7339 | J16: 7490 | K16: 9923 | L16: 6787 | M16: 11372 | N16: 8866 | O16: 7383 | P16: 5556 | Q16: =M16*(1+1.15%) -> 11502.778
A17: Net income attributable to Green Brick Partners, Inc. | B17: =B15-B16 -> 61577 | C17: =C15-C16 -> 101256 | D17: =D15-D16 -> 73520 | E17: =E15-E16 -> 55547 | F17: =F15-F16 -> 64180 | G17: =G15-G16 -> 75270 | H17: =H15-H16 -> 72156 | I17: =I15-I16 -> 73020 | ... Q17: =Q15-Q16 -> 105006.85
A19: Per Share Data
A20: Earnings Per Share, Basic | B20: 1.2 | C20: 2.09 | D20: 1.58 | E20: 1.2 | F20: 1.38 | G20: 1.64 | H20: 1.58 | I20: 1.6 | J20: 1.84 | K20: 2.34 | L20: 1.99 | M20: 2.34 | N20: 1.67 | O20: 1.86 | P20: 1.77 | Q20: =M20*(1+1.15%) -> 2.36691
A21: Earnings Per Share, Diluted | B21: 1.2 | C21: 2.08 | D21: 1.57 | E21: 1.17 | F21: 1.37 | G21: 1.63 | H21: 1.56 | I21: 1.58 | J21: 1.82 | K21: 2.32 | L21: 1.98 | M21: 2.33 | N21: 1.67 | O21: 1.85 | P21: 1.77 | Q21: =M21*(1+1.15%) -> 2.356795
A22: Weighted Average Number of Shares Outstanding, Basic | B22: 44457 | C22: 48046 | D22: 46032 | E22: 47987 | F22: 43541 | G22: 45371 | H22: 45320 | I22: 45917 | J22: 44942 | K22: 44760 | L22: 44457 | M22: 44378 | N22: 44440 | O22: 43770 | P22: 43541 | Q22: =M22*(1+1.15%) -> 44888.347
A23: Weighted Average Number of Shares Outstanding, Diluted | B23: 44530 | C23: 48384 | D23: 46390 | E23: 47648 | F23: 43632 | G23: 45755 | H23: 45792 | I23: 45446 | J23: 45430 | K23: 45154 | L23: 44530 | M23: 45176 | N23: 44508 | O23: 43824 | P23: 43632 | Q23: =M23*(1+1.15%) -> 45695.524

Sheet Bal. Sheet
A1: Balance Sheet
A2: Consolidated Balance Sheets - USD ($) $ in Thousands | B2: 2018 | C2: 2019 | D2: 2020 | E2: 2021 | F2: 2022 | G2: 2023 | H2: 2024 | I2: 2025E | J2: 2026E | K2: 2027E | L2: 2028E | M2: 2029E | N2: 2030E | O2: 2031E
A3: Assets
A4: Cash and cash equivalents | B4: 41755 | C4: 37685 | D4: 33635 | E4: 93554 | F4: 93270 | G4: 199459 | H4: 159696 | I4: ='Cash Flow Stmt.'!I47 -> 242395.25 | J4: ='Cash Flow Stmt.'!J47 -> 282088.05 | K4: ='Cash Flow Stmt.'!K47 -> 198776.52 | L4: ='Cash Flow Stmt.'!L47 -> 140449.94 | M4: ='Cash Flow Stmt.'!M47 -> 155880.79 | N4: ='Cash Flow Stmt.'!N47 -> 122644.33 | O4: ='Cash Flow Stmt.'!O47 -> 233308.3
A5: Accounts receivable | B5: 4842 | C5: 4720 | D5: 5224 | E5: 6871 | F5: 5288 | G5: 10632 | H5: 13858 | I5: ='Inc. Stmt.'!I5*'Common Bal. Sheet'!B5 -> 11832.574 | J5: ='Inc. Stmt.'!J5*'Common Bal. Sheet'!C5 -> 16352.805 | K5: ='Inc. Stmt.'!K5*'Common Bal. Sheet'!D5 -> 12790.517 | L5: ='Inc. Stmt.'!L5*'Common Bal. Sheet'!E5 -> 12402.581 | M5: ='Inc. Stmt.'!M5*'Common Bal. Sheet'!F5 -> 12185.962 | N5: ='Inc. Stmt.'!N5*'Common Bal. Sheet'!G5 -> 7951.9585 | O5: ='Inc. Stmt.'!O5*'Common Bal. Sheet'!H5 -> 16856.418
A6: Inventory | B6: 668961 | C6: 753567 | D6: 844635 | E6: 1203743 | F6: 1422680 | G6: 1533223 | H6: 1937732 | I6: 2124247 | J6: =ROUND('Inc. Stmt.'!J8/'Ratio Analysis'!K40,0) -> 2136758 | K6: =ROUND('Inc. Stmt.'!K8/'Ratio Analysis'!L40,0) -> 2307805 | L6: =ROUND('Inc. Stmt.'!L8/'Ratio Analysis'!M40,0) -> 2527881 | M6: =ROUND('Inc. Stmt.'!M8/'Ratio Analysis'!N40,0) -> 2605248 | N6: =ROUND('Inc. Stmt.'!N8/'Ratio Analysis'!O40,0) -> 2748066 | O6: =ROUND('Inc. Stmt.'!O8/'Ratio Analysis'!P40,0) -> 2848745
A7: Earnest money deposits | B7: 16793 | C7: 14686 | D7: 22242 | E7: 26008 | F7: 23910 | G7: 16619 | H7: 13629 | I7: ='Bal. Sheet'!H7*(1+'Common Bal. Sheet'!$B$7) -> 13855.338 | J7: ='Bal. Sheet'!I7*(1+'Common Bal. Sheet'!$B$7) -> 14085.435 | K7: ='Bal. Sheet'!J7*(1+'Common Bal. Sheet'!$B$7) -> 14319.353 | L7: ='Bal. Sheet'!K7*(1+'Common Bal. Sheet'!$B$7) -> 14557.155 | M7: ='Bal. Sheet'!L7*(1+'Common Bal. Sheet'!$B$7) -> 14798.907 | N7: ='Bal. Sheet'!M7*(1+'Common Bal. Sheet'!$B$7) -> 15044.674 | O7: ='Bal. Sheet'!N7*(1+'Common Bal. Sheet'!$B$7) -> 15294.522
A8: Total Current Assets | B8: =SUM(B4:B7) -> 732351 | C8: =SUM(C4:C7) -> 810658 | D8: =SUM(D4:D7) -> 905736 | E8: =SUM(E4:E7) -> 1330176 | F8: =SUM(F4:F7) -> 1545148 | G8: =SUM(G4:G7) -> 1759933 | H8: =SUM(H4:H7) -> 2124915 | I8: =SUM(I4:I7) -> 2392330.2 | ... O8: =SUM(O4:O7) -> 3114204.2
A9: Investments in unconsolidated entities | B9: 20269 | C9: 30294 | D9: 46443 | E9: 55616 | F9: 74224 | G9: 84654 | H9: 60582 | I9: 65000 | J9: 70000 | K9: 75000 | L9: 80000 | M9: 85000 | N9: 90000 | O9: 95000
A10: Right-of-use assets - operating leases | B10: 0 | C10: 3462 | D10: 0 | E10: 4596 | F10: 3458 | G10: 7255 | H10: 7242 | I10: ='Inc. Stmt.'!I5*'Common Bal. Sheet'!$B$10 -> 4876.3939 | J10: ='Inc. Stmt.'!J5*'Common Bal. Sheet'!$B$10 -> 4906.4666 | K10: ='Inc. Stmt.'!K5*'Common Bal. Sheet'!$B$10 -> 4997.4368 | L10: ='Inc. Stmt.'!L5*'Common Bal. Sheet'!$B$10 -> 5397.9714 | M10: ='Inc. Stmt.'!M5*'Common Bal. Sheet'!$B$10 -> 5795.9108 | N10: ='Inc. Stmt.'!N5*'Common Bal. Sheet'!$B$10 -> 6157.6205 | O10: ='Inc. Stmt.'!O5*'Common Bal. Sheet'!$B$10 -> 6565.5901
A11: Property and equipment, net | B11: 4690 | C11: 4309 | D11: 3595 | E11: 2812 | F11: 2919 | G11: 7054 | H11: 6551 | I11: =H11+-'Cash Flow Stmt.'!I27-'Cash Flow Stmt.'!I5 -> 7910.1324 | J11: =I11+-'Cash Flow Stmt.'!J27-'Cash Flow Stmt.'!J5 -> 9277.6466 | K11: =J11+-'Cash Flow Stmt.'!K27-'Cash Flow Stmt.'!K5 -> 10670.516 | L11: =K11+-'Cash Flow Stmt.'!L27-'Cash Flow Stmt.'!L5 -> 12175.021 | M11: =L11+-'Cash Flow Stmt.'!M27-'Cash Flow Stmt.'!M5 -> 13790.438 | N11: =M11+-'Cash Flow Stmt.'!N27-'Cash Flow Stmt.'!N5 -> 15506.669 | O11: =N11+-'Cash Flow Stmt.'!O27-'Cash Flow Stmt.'!O5 -> 17336.609
A12: Deferred income tax assets, net | B12: 16499 | C12: 15262 | D12: 15376 | E12: 15741 | F12: 16448 | G12: 15306 | H12: 13984 | I12: =H12*'Common Bal. Sheet'!$B$12+H12 -> 14162.374 | J12: =I12*'Common Bal. Sheet'!$B$12+I12 -> 14343.022 | K12: =J12*'Common Bal. Sheet'!$B$12+J12 -> 14525.975 | L12: =K12*'Common Bal. Sheet'!$B$12+K12 -> 14711.262 | M12: =L12*'Common Bal. Sheet'!$B$12+L12 -> 14898.912 | N12: =M12*'Common Bal. Sheet'!$B$12+M12 -> 15088.956 | O12: =N12*'Common Bal. Sheet'!$B$12+N12 -> 15281.424
A13: Intangible assets, net | B13: 856 | C13: 707 | D13: 622 | E13: 537 | F13: 452 | G13: 367 | H13: 282 | I13: =H13-85 -> 197 | J13: =I13-85 -> 112 | K13: =J13-85 -> 27 | L13: 0 | M13: 0 | N13: 0 | O13: 0
A14: Goodwill | B14: 680 | C14: 680 | D14: 680 | E14: 680 | F14: 680 | G14: 680 | H14: 680 | I14: =H14 -> 680 | J14: =I14 -> 680 | K14: =J14 -> 680 | L14: =K14 -> 680 | M14: =L14 -> 680 | N14: =M14 -> 680 | O14: =N14 -> 680
A15: Other assets | B15: 8681 | C15: 10167 | D15: 13857 | E15: 11709 | F15: 12346 | G15: 27583 | H15: 35758 | I15: ='Inc. Stmt.'!I5*'Common Bal. Sheet'!$B$15 -> 24754.405 | J15: ='Inc. Stmt.'!J5*'Common Bal. Sheet'!$B$15 -> 24907.065 | K15: ='Inc. Stmt.'!K5*'Common Bal. Sheet'!$B$15 -> 25368.864 | L15: ='Inc. Stmt.'!L5*'Common Bal. Sheet'!$B$15 -> 27402.128 | M15: ='Inc. Stmt.'!M5*'Common Bal. Sheet'!$B$15 -> 29422.218 | N15: ='Inc. Stmt.'!N5*'Common Bal. Sheet'!$B$15 -> 31258.392 | O15: ='Inc. Stmt.'!O5*'Common Bal. Sheet'!$B$15 -> 33329.399
A16: Total assets | B16: 784026 | C16: 875539 | D16: 988847 | E16: 1421867 | F16: 1655675 | G16: 1902832 | H16: 2249994 | I16: =SUM(I8:I15) -> 2509910.5 | J16: =SUM(J8:J15) -> 2573510.5 | K16: =SUM(K8:K15) -> 2664961.2 | L16: =SUM(L8:L15) -> 2835657.1 | M16: =SUM(M8:M15) -> 2937701.1 | N16: =SUM(N8:N15) -> 3052398.6 | O16: =SUM(O8:O15) -> 3282397.3
A17: Liabilities and stockholders’ equity
A18: Accounts payable | B18: 26091 | C18: 30044 | D18: 24521 | E18: 45682 | F18: 51804 | G18: 54321 | H18: 59746 | I18: ='Inc. Stmt.'!I8*'random calculations'!$E$20 -> 61545.207 | J18: ='Inc. Stmt.'!J8*'random calculations'!$E$20 -> 63373.287 | K18: ='Inc. Stmt.'!K8*'random calculations'!$E$20 -> 65470.403 | L18: ='Inc. Stmt.'!L8*'random calculations'!$E$20 -> 71713.749 | M18: ='Inc. Stmt.'!M8*'random calculations'!$E$20 -> 77827.988 | N18: ='Inc. Stmt.'!N8*'random calculations'!$E$20 -> 82685.057 | O18: ='Inc. Stmt.'!O8*'random calculations'!$E$20 -> 88163.308
A19: Accrued expenses | B19: 29201 | C19: 24656 | D19: 40416 | E19: 61351 | F19: 91281 | G19: 96457 | H19: 110068 | I19: ='Inc. Stmt.'!I10*'random calculations'!$B$25 -> 109933.05 | J19: ='Inc. Stmt.'!J10*'random calculations'!$B$25 -> 98857.946 | K19: ='Inc. Stmt.'!K10*'random calculations'!$B$25 -> 97334.498 | L19: ='Inc. Stmt.'!L10*'random calculations'!$B$25 -> 101510.3 | M19: ='Inc. Stmt.'!M10*'random calculations'!$B$25 -> 105770.69 | N19: ='Inc. Stmt.'!N10*'random calculations'!$B$25 -> 112371.6 | O19: ='Inc. Stmt.'!O10*'random calculations'!$B$25 -> 119816.72
A20: Customer and builder deposits | B20: 31978 | C20: 23954 | D20: 38131 | E20: 64610 | F20: 29112 | G20: 43148 | H20: 37068 | I20: ='Inc. Stmt.'!I5*'Common Bal. Sheet'!$B$20 -> 67330.422 | J20: ='Inc. Stmt.'!J5*'Common Bal. Sheet'!$B$20 -> 67745.648 | K20: ='Inc. Stmt.'!K5*'Common Bal. Sheet'!$B$20 -> 69001.712 | L20: ='Inc. Stmt.'!L5*'Common Bal. Sheet'!$B$20 -> 74532.061 | M20: ='Inc. Stmt.'!M5*'Common Bal. Sheet'!$B$20 -> 80026.578 | N20: ='Inc. Stmt.'!N5*'Common Bal. Sheet'!$B$20 -> 85020.855 | O20: ='Inc. Stmt.'!O5*'Common Bal. Sheet'!$B$20 -> 90653.864
A21: Lease liabilities - operating leases | B21: 0 | C21: 3564 | D21: 2591 | E21: 4745 | F21: 3582 | G21: 7898 | H21: 8343 | I21: =H21*1.05 -> 8760.15 | J21: =I21*1.05 -> 9198.1575 | K21: =J21*1.05 -> 9658.0654 | L21: =K21*1.05 -> 10140.969 | M21: =L21*1.05 -> 10648.017 | N21: =M21*1.05 -> 11180.418 | O21: =N21*1.05 -> 11739.439
A22: Borrowings on lines of credit, net | B22: 200386 | C22: 164642 | D22: 106687 | E22: 738 | F22: 17395 | G22: -2328 | H22: 22645 | I22: ='Q Bal. Sheet'!Q24 -> 63474.66 | J22: ='Inc. Stmt.'!J5*2% -> 42124.651 | K22: ='Inc. Stmt.'!K5*2% -> 42905.679 | L22: ='Inc. Stmt.'!L5*2% -> 46344.484 | M22: ='Inc. Stmt.'!M5*2% -> 49761.007 | N22: ='Inc. Stmt.'!N5*2% -> 52866.479 | O22: ='Inc. Stmt.'!O5*2% -> 56369.117
A23: Notes payable | B23: 0 | C23: 0 | D23: 2125 | E23: 210 | F23: 14622 | G23: 12981 | H23: 14871 | I23: =H23+'Cash Flow Stmt.'!I33 -> 12421 | J23: =I23+'Cash Flow Stmt.'!J33 -> 12550 | K23: =J23+'Cash Flow Stmt.'!K33 -> -2261 | L23: =K23+'Cash Flow Stmt.'!L33 -> 11739 | M23: =L23+'Cash Flow Stmt.'!M33 -> 11739 | N23: =M23+'Cash Flow Stmt.'!N33 -> 11739 | O23: =N23+'Cash Flow Stmt.'!O33 -> 11739
A24: Total Current Liabilties | B24: =SUM(B18:B23) -> 287656 | C24: =SUM(C18:C23) -> 246860 | D24: =SUM(D18:D23) -> 214471 | E24: =SUM(E18:E23) -> 177336 | F24: =SUM(F18:F23) -> 207796 | G24: =SUM(G18:G23) -> 212477 | H24: =SUM(H18:H23) -> 252741 | I24: =SUM(I23,I18:I22) -> 323464.49 | J24: =SUM(J23,J18:J22) -> 293849.69 | K24: =SUM(K23,K18:K22) -> 282109.36 | L24: =SUM(L23,L18:L22) -> 315980.56 | M24: =SUM(M23,M18:M22) -> 335773.28 | N24: =SUM(N23,N18:N22) -> 355863.41 | O24: =SUM(O23,O18:O22) -> 378481.45
A25: Senior Notes | B25: 0 | C25: 73406 | D25: 111056 | E25: 335446 | F25: 335825 | G25: 336207 | H25: 299090 | I25: =I50 -> 299243.1 | J25: =J50 -> 236894.48 | K25: =K50 -> 199515.58 | L25: =L50 -> 99612.467 | M25: 0 | N25: 0 | O25: 0
A26: Contigent consideration | B26: 2207 | C26: 5267 | D26: 368 | E26: 0 | F26: 0 | G26: 0 | H26: 0 | I26: 0 | J26: 0 | K26: 0 | L26: 0 | M26: 0 | N26: 0 | O26: 0
A27: Total liabilities | B27: 289863 | C27: 325533 | D27: 325895 | E27: 511306 | F27: 543621 | G27: 548684 | H27: 551831 | I27: =SUM(I24:I26) -> 622707.59 | J27: =SUM(J24,I25) -> 593092.79 | K27: =SUM(K24,J25) -> 519003.84 | L27: =SUM(L24,K25) -> 515496.14 | M27: =SUM(M24,L25) -> 435385.75 | N27: =SUM(N24,N25) -> 355863.41 | O27: =SUM(O24,O25) -> 378481.45
A28: Redeemable noncontrolling interest in equity of consolidated subsidiary | B28: 8531 | C28: 13611 | D28: 13543 | E28: 21867 | F28: 29239 | G28: 36135 | H28: 44709 | I28: =H28+'Inc. Stmt.'!H18+'Cash Flow Stmt.'!H41+'Cash Flow Stmt.'!H42 -> 63496 | J28: =I28+'Inc. Stmt.'!I18+'Cash Flow Stmt.'!I41+'Cash Flow Stmt.'!I42 -> 67246.835 | K28: =J28+'Inc. Stmt.'!J18+'Cash Flow Stmt.'!J41+'Cash Flow Stmt.'!J42 -> 81930.329 | L28: =K28+'Inc. Stmt.'!K18+'Cash Flow Stmt.'!K41+'Cash Flow Stmt.'!K42 -> 96886.068 | M28: =L28+'Inc. Stmt.'!L18+'Cash Flow Stmt.'!L41+'Cash Flow Stmt.'!L42 -> 113040.48 | N28: =M28+'Inc. Stmt.'!M18+'Cash Flow Stmt.'!M41+'Cash Flow Stmt.'!M42 -> 130385.8 | O28: =N28+'Inc. Stmt.'!N18+'Cash Flow Stmt.'!N41+'Cash Flow Stmt.'!N42 -> 148813.6
A29: Green Brick Partners, Inc. stockholders’ equity
A30: Preferred stock, $0.01 par value: 5,000,000 shares authorized | B30: 0 | C30: 0 | D30: 0 | E30: 47696 | F30: 47696 | G30: 47603 | H30: 47603 | I30: 47603 | J30: 47603 | K30: 47603 | L30: 47603 | M30: 47603 | N30: 47603 | O30: 47603
A31: Common shares, $0.01 par value: 100,000,000 shares authorized; | B31: 507 | C31: 509 | D31: 511 | E31: 512 | F31: 460 | G31: 450 | H31: 444 | I31: 444 | J31: 444 | K31: 443 | L31: 443 | M31: 442 | N31: 442 | O31: 441
A32: Treasury stock at cost, 136,756 shares | B32: -981 | C32: -3167 | D32: 3167 | E32: 3167 | F32: 0 | G32: 0 | H32: 0 | I32: 0 | J32: 0 | K32: 0 | L32: 0 | M32: 0 | N32: 0 | O32: 0
A33: Additional paid-in capital | B33: 291299 | C33: 290799 | D33: 293242 | E33: 289641 | F33: 259410 | G33: 255614 | H33: 244653 | I33: ='Q Bal. Sheet'!Q34 -> 248486.1 | J33: =I33 -> 248486.1 | K33: =J33+2 -> 248488.1 | L33: =K33-1 -> 248487.1 | M33: =L33+1 -> 248488.1 | N33: =M33 -> 248488.1 | O33: =N33+1 -> 248489.1
A34: Retained earnings | B34: 177526 | C34: 235027 | D34: 349656 | E34: 539866 | F34: 754341 | G34: 997037 | H34: 1332714 | I34: =H34+'Inc. Stmt.'!I17+'Cash Flow Stmt.'!I39+'Cash Flow Stmt.'!I38 -> 1490608.5 | J34: =I34+'Inc. Stmt.'!J17+'Cash Flow Stmt.'!J39+'Cash Flow Stmt.'!J38 -> 1659169.9 | K34: =J34+'Inc. Stmt.'!K17+'Cash Flow Stmt.'!K39+'Cash Flow Stmt.'!K38 -> 1825089.4 | L34: =K34+'Inc. Stmt.'!L17+'Cash Flow Stmt.'!L39+'Cash Flow Stmt.'!L38 -> 1998250.4 | M34: =L34+'Inc. Stmt.'!M17+'Cash Flow Stmt.'!M39+'Cash Flow Stmt.'!M38 -> 2179339.5 | N34: =M34+'Inc. Stmt.'!N17+'Cash Flow Stmt.'!N39+'Cash Flow Stmt.'!N38 -> 2371909.4 | O34: =N34+'Inc. Stmt.'!O17+'Cash Flow Stmt.'!O39+'Cash Flow Stmt.'!O38 -> 2577428.3
A35: Total Green Brick Partners, Inc. stockholders’ equity | B35: 468351 | C35: 523168 | D35: 640242 | E35: 874548 | F35: 1061907 | G35: 1300704 | H35: 1625415 | I35: ='Q Bal. Sheet'!Q36 -> 1824909.9 | J35: =SUM(J30:J34) -> 1955703 | K35: =SUM(K30:K34) -> 2121623.5 | L35: =SUM(L30:L34) -> 2294783.5 | M35: =SUM(M30:M34) -> 2475872.6 | N35: =SUM(N30:N34) -> 2668442.5 | O35: =SUM(O30:O34) -> 2873961.4
A36: Noncontrolling interests | B36: 17281 | C36: 13227 | D36: 9167 | E36: 14146 | F36: 20908 | G36: 17309 | H36: 28039 | I36: ='Q Bal. Sheet'!Q37 -> 27787.928 | J36: ='Bal. Sheet'!J19*0.25 -> 24714.486 | K36: ='Bal. Sheet'!K19*0.25 -> 24333.625 | L36: ='Bal. Sheet'!L19*0.25 -> 25377.574 | M36: ='Bal. Sheet'!M19*0.25 -> 26442.673 | N36: ='Bal. Sheet'!N19*0.25 -> 28092.9 | O36: ='Bal. Sheet'!O19*0.25 -> 29954.18
A37: Total stockholders’ equity | B37: 485632 | C37: 536395 | D37: 649409 | E37: 888694 | F37: 1082815 | G37: 1318013 | H37: 1653454 | I37: ='Q Bal. Sheet'!Q38 -> 1852697.8 | J37: =SUM(J35:J36) -> 1980417.5 | K37: =SUM(K35:K36) -> 2145957.1 | L37: =SUM(L35:L36) -> 2320161.1 | M37: =SUM(M35:M36) -> 2502315.3 | N37: =SUM(N35:N36) -> 2696535.4 | O37: =SUM(O35:O36) -> 2903915.6
A38: Total liabilities and stockholders’ equity | B38: 784026 | C38: 875539 | D38: 988847 | E38: 1421867 | F38: 1655675 | G38: 1902832 | H38: 2249994 | I38: ='Q Bal. Sheet'!Q39 -> 2509910.8 | J38: =SUM(J37,J27) -> 2573510.3 | K38: =SUM(K37,K27) -> 2664961 | L38: =SUM(L37,L27) -> 2835657.3 | M38: =SUM(M37,M27) -> 2937701 | N38: =SUM(N37,N27) -> 3052398.8 | O38: =SUM(O37,O27) -> 3282397.1
A43: Debt Schedule 1 — Senior Notes Maturities | B43: 2018 | C43: 2019 | D43: 2020 | E43: 2021 | F43: 2022 | G43: 2023 | H43: 2024 | I43: 2025E | J43: 2026E | K43: 2027E | L43: 2028E
A44: 2026 Notes | H44: 62500 | I44: 62500 | J44: 0 | K44: 0 | L44: 0
...

Sheet Common Bal. Sheet
A1: Common-Size Balance Sheet
A2: Consolidated Balance Sheets - USD ($) $ in Thousands | B2: Avg 2018–2025E | C2: 2018 | D2: 2019 | E2: 2020 | F2: 2021 | G2: 2022 | H2: 2023 | I2: 2024 | J2: 2025E
A3: Assets
A4: Cash and cash equivalents | B4: =AVERAGE(C4:I4) -> 0.065292702 | C4: ='Bal. Sheet'!B4/'Inc. Stmt.'!$B$5 -> 0.06695294 | D4: ='Bal. Sheet'!C4/'Inc. Stmt.'!$C$5 -> 0.047602506 | E4: ='Bal. Sheet'!D4/'Inc. Stmt.'!$D$5 -> 0.034461349 | F4: ='Bal. Sheet'!E4/'Inc. Stmt.'!$E$5 -> 0.066687291 | G4: ='Bal. Sheet'!F4/'Inc. Stmt.'!$F$5 -> 0.053060855 | H4: ='Bal. Sheet'!G4/'Inc. Stmt.'!$G$5 -> 0.11219997 | I4: ='Bal. Sheet'!H4/'Inc. Stmt.'!$H$5 -> 0.07608401 | J4: ='Bal. Sheet'!I4/'Inc. Stmt.'!$I$5 -> 0.11579448
A5: Accounts receivable | B5: =AVERAGE(C5:I5) -> 0.0056525313 | C5: ='Bal. Sheet'!B5/'Inc. Stmt.'!$B$5 -> 0.0077640075 | D5: ='Bal. Sheet'!C5/'Inc. Stmt.'!$C$5 -> 0.0059621555 | E5: ='Bal. Sheet'!D5/'Inc. Stmt.'!$D$5 -> 0.0053523439 | F5: ='Bal. Sheet'!E5/'Inc. Stmt.'!$E$5 -> 0.0048977957 | G5: ='Bal. Sheet'!F5/'Inc. Stmt.'!$F$5 -> 0.0030083178 | H5: ='Bal. Sheet'!G5/'Inc. Stmt.'!$G$5 -> 0.005980728 | I5: ='Bal. Sheet'!H5/'Inc. Stmt.'!$H$5 -> 0.0066023708 | J5: ='Bal. Sheet'!I5/'Inc. Stmt.'!$I$5 -> 0.0056525313
A6: Inventory | B6: =AVERAGE(C6:I6) -> 0.90614321 | C6: ='Bal. Sheet'!B6/'Inc. Stmt.'!$B$5 -> 1.0726597 | D6: ='Bal. Sheet'!C6/'Inc. Stmt.'!$C$5 -> 0.95188212 | E6: ='Bal. Sheet'!D6/'Inc. Stmt.'!$D$5 -> 0.86538609 | F6: ='Bal. Sheet'!E6/'Inc. Stmt.'!$E$5 -> 0.85805374 | G6: ='Bal. Sheet'!F6/'Inc. Stmt.'!$F$5 -> 0.80935582 | H6: ='Bal. Sheet'!G6/'Inc. Stmt.'!$G$5 -> 0.86247082 | I6: ='Bal. Sheet'!H6/'Inc. Stmt.'!$H$5 -> 0.9231942 | J6: ='Bal. Sheet'!I6/'Inc. Stmt.'!$I$5 -> 1.0147727
A7: Earnest money deposits | B7: =AVERAGE(C7:I7) -> 0.016607083 | C7: ='Bal. Sheet'!B7/'Inc. Stmt.'!$B$5 -> 0.026927092 | D7: ='Bal. Sheet'!C7/'Inc. Stmt.'!$C$5 -> 0.018550893 | E7: ='Bal. Sheet'!D7/'Inc. Stmt.'!$D$5 -> 0.022788444 | F7: ='Bal. Sheet'!E7/'Inc. Stmt.'!$E$5 -> 0.018539058 | G7: ='Bal. Sheet'!F7/'Inc. Stmt.'!$F$5 -> 0.013602284 | H7: ='Bal. Sheet'!G7/'Inc. Stmt.'!$G$5 -> 0.0093485439 | I7: ='Bal. Sheet'!H7/'Inc. Stmt.'!$H$5 -> 0.0064932683 | J7: ='Bal. Sheet'!I7/'Inc. Stmt.'!$I$5 -> 0.0066188245
A8: Total Current Assets | B8: =AVERAGE(C8:I8) -> 0.93057229 | C8: ='Bal. Sheet'!B8/'Bal. Sheet'!B16 -> 0.9340902 | D8: ='Bal. Sheet'!C8/'Bal. Sheet'!C16 -> 0.92589593 | E8: ='Bal. Sheet'!D8/'Bal. Sheet'!D16 -> 0.91595161 | F8: ='Bal. Sheet'!E8/'Bal. Sheet'!E16 -> 0.93551366 | G8: ='Bal. Sheet'!F8/'Bal. Sheet'!F16 -> 0.93324354 | H8: ='Bal. Sheet'!G8/'Bal. Sheet'!G16 -> 0.92490194 | I8: ='Bal. Sheet'!H8/'Bal. Sheet'!H16 -> 0.94440919 | J8: ='Bal. Sheet'!I8/'Bal. Sheet'!$I$16 -> 0.95315359
A9: Investments in unconsolidated entities | B9: =AVERAGE(C9:I9) -> 0.037539762 | C9: ='Bal. Sheet'!B9/'Bal. Sheet'!$B$16 -> 0.025852459 | D9: ='Bal. Sheet'!C9/'Bal. Sheet'!$C$16 -> 0.0346004 | E9: ='Bal. Sheet'!D9/'Bal. Sheet'!$D$16 -> 0.046966821 | F9: ='Bal. Sheet'!E9/'Bal. Sheet'!$E$16 -> 0.03911477 | G9: ='Bal. Sheet'!F9/'Bal. Sheet'!$F$16 -> 0.044830054 | H9: ='Bal. Sheet'!G9/'Bal. Sheet'!$G$16 -> 0.044488426 | I9: ='Bal. Sheet'!H9/'Bal. Sheet'!$H$16 -> 0.026925405 | J9: ='Bal. Sheet'!I9/'Bal. Sheet'!$I$16 -> 0.025897338
A10: Right-of-use assets - operating leases | B10: =AVERAGE(C10:I10) -> 0.002329499 | C10: ='Bal. Sheet'!B10/'Bal. Sheet'!$B$16 -> 0 | D10: ='Bal. Sheet'!C10/'Bal. Sheet'!$C$16 -> 0.0039541357 | E10: ='Bal. Sheet'!D10/'Bal. Sheet'!$D$16 -> 0 | F10: ='Bal. Sheet'!E10/'Bal. Sheet'!$E$16 -> 0.0032323698 | G10: ='Bal. Sheet'!F10/'Bal. Sheet'!$F$16 -> 0.0020885741 | H10: ='Bal. Sheet'!G10/'Bal. Sheet'!$G$16 -> 0.0038127381 | I10: ='Bal. Sheet'!H10/'Bal. Sheet'!$H$16 -> 0.0032186752 | J10: ='Bal. Sheet'!I10/'Bal. Sheet'!$I$16 -> 0.0019428557
A11: Property and equipment, net | B11: =AVERAGE(C11:I11) -> 0.0035569156 | C11: ='Bal. Sheet'!B11/'Bal. Sheet'!$B$16 -> 0.0059819445 | D11: ='Bal. Sheet'!C11/'Bal. Sheet'!$C$16 -> 0.0049215398 | E11: ='Bal. Sheet'!D11/'Bal. Sheet'!$D$16 -> 0.0036355473 | F11: ='Bal. Sheet'!E11/'Bal. Sheet'!$E$16 -> 0.0019776815 | G11: ='Bal. Sheet'!F11/'Bal. Sheet'!$F$16 -> 0.0017630272 | H11: ='Bal. Sheet'!G11/'Bal. Sheet'!$G$16 -> 0.003707106 | I11: ='Bal. Sheet'!H11/'Bal. Sheet'!$H$16 -> 0.0029115633 | J11: ='Bal. Sheet'!I11/'Bal. Sheet'!$I$16 -> 0.0031515596
A12: Deferred income tax assets, net | B12: =AVERAGE(C12:I12) -> 0.012755545 | C12: ='Bal. Sheet'!B12/'Bal. Sheet'!$B$16 -> 0.021043945 | D12: ='Bal. Sheet'!C12/'Bal. Sheet'!$C$16 -> 0.017431548 | E12: ='Bal. Sheet'!D12/'Bal. Sheet'!$D$16 -> 0.015549423 | F12: ='Bal. Sheet'!E12/'Bal. Sheet'!$E$16 -> 0.011070656 | G12: ='Bal. Sheet'!F12/'Bal. Sheet'!$F$16 -> 0.0099343168 | H12: ='Bal. Sheet'!G12/'Bal. Sheet'!$G$16 -> 0.0080438 | I12: ='Bal. Sheet'!H12/'Bal. Sheet'!$H$16 -> 0.0062151277 | J12: ='Bal. Sheet'!I12/'Bal. Sheet'!$I$16 -> 0.0056425812
A13: Intangible assets, net | B13: =AVERAGE(C13:I13) -> 0.00049959936 | C13: ='Bal. Sheet'!B13/'Bal. Sheet'!$B$16 -> 0.0010918005 | D13: ='Bal. Sheet'!C13/'Bal. Sheet'!$C$16 -> 0.00080750258 | E13: ='Bal. Sheet'!D13/'Bal. Sheet'!$D$16 -> 0.00062901541 | F13: ='Bal. Sheet'!E13/'Bal. Sheet'!$E$16 -> 0.00037767245 | G13: ='Bal. Sheet'!F13/'Bal. Sheet'!$F$16 -> 0.00027300044 | H13: ='Bal. Sheet'!G13/'Bal. Sheet'!$G$16 -> 0.00019287042 | I13: ='Bal. Sheet'!H13/'Bal. Sheet'!$H$16 -> 0.00012533367 | J13: ='Bal. Sheet'!I13/'Bal. Sheet'!$I$16 -> 7.8488856e-05
A14: Goodwill | B14: =AVERAGE(C14:I14) -> 0.00055431291 | C14: ='Bal. Sheet'!B14/'Bal. Sheet'!$B$16 -> 0.00086731818 | D14: ='Bal. Sheet'!C14/'Bal. Sheet'!$C$16 -> 0.00077666443 | E14: ='Bal. Sheet'!D14/'Bal. Sheet'!$D$16 -> 0.00068766958 | F14: ='Bal. Sheet'!E14/'Bal. Sheet'!$E$16 -> 0.00047824445 | G14: ='Bal. Sheet'!F14/'Bal. Sheet'!$F$16 -> 0.00041070862 | H14: ='Bal. Sheet'!G14/'Bal. Sheet'!$G$16 -> 0.00035736208 | I14: ='Bal. Sheet'!H14/'Bal. Sheet'!$H$16 -> 0.00030222303 | J14: ='Bal. Sheet'!I14/'Bal. Sheet'!$I$16 -> 0.000270926
A15: Other assets | B15: =AVERAGE(C15:I15) -> 0.011825411 | C15: ='Bal. Sheet'!B15/'Bal. Sheet'!$B$16 -> 0.011072337 | D15: ='Bal. Sheet'!C15/'Bal. Sheet'!$C$16 -> 0.011612275 | E15: ='Bal. Sheet'!D15/'Bal. Sheet'!$D$16 -> 0.01401329 | F15: ='Bal. Sheet'!E15/'Bal. Sheet'!$E$16 -> 0.0082349474 | G15: ='Bal. Sheet'!F15/'Bal. Sheet'!$F$16 -> 0.0074567774 | H15: ='Bal. Sheet'!G15/'Bal. Sheet'!$G$16 -> 0.014495762 | I15: ='Bal. Sheet'!H15/'Bal. Sheet'!$H$16 -> 0.015892487 | J15: ='Bal. Sheet'!I15/'Bal. Sheet'!$I$16 -> 0.0098626647
A16: Total assets | B16: =AVERAGE(C16:I16) -> 1 | C16: ='Bal. Sheet'!B16/'Bal. Sheet'!B16 -> 1 | D16: ='Bal. Sheet'!C16/'Bal. Sheet'!C16 -> 1 | E16: ='Bal. Sheet'!D16/'Bal. Sheet'!D16 -> 1 | F16: ='Bal. Sheet'!E16/'Bal. Sheet'!E16 -> 1 | G16: ='Bal. Sheet'!F16/'Bal. Sheet'!F16 -> 1 | H16: ='Bal. Sheet'!G16/'Bal. Sheet'!G16 -> 1 | I16: ='Bal. Sheet'!H16/'Bal. Sheet'!H16 -> 1 | J16: ='Bal. Sheet'!I16/'Bal. Sheet'!I16 -> 1
A17: Liabilities and stockholders’ equity
A18: Accounts payable | B18: =AVERAGE(C18:I18) -> 0.032280846 | C18: ='Bal. Sheet'!B18/'Inc. Stmt.'!$B$5 -> 0.041836167 | D18: ='Bal. Sheet'!C18/'Inc. Stmt.'!$C$5 -> 0.037950635 | E18: ='Bal. Sheet'!D18/'Inc. Stmt.'!$D$5 -> 0.025123435 | F18: ='Bal. Sheet'!E18/'Inc. Stmt.'!$E$5 -> 0.032563106 | G18: ='Bal. Sheet'!F18/'Inc. Stmt.'!$F$5 -> 0.029471047 | H18: ='Bal. Sheet'!G18/'Inc. Stmt.'!$G$5 -> 0.030556727 | I18: ='Bal. Sheet'!H18/'Inc. Stmt.'!$H$5 -> 0.028464803 | J18: ='Bal. Sheet'!I18/'Inc. Stmt.'!$I$5 -> 0.029400721
A19: Accrued expenses | B19: =AVERAGE(C19:I19) -> 0.04596244 | C19: ='Bal. Sheet'!B19/'Inc. Stmt.'!$B$5 -> 0.046822962 | D19: ='Bal. Sheet'!C19/'Inc. Stmt.'!$C$5 -> 0.031144683 | E19: ='Bal. Sheet'!D19/'Inc. Stmt.'!$D$5 -> 0.041408945 | F19: ='Bal. Sheet'!E19/'Inc. Stmt.'!$E$5 -> 0.043732304 | G19: ='Bal. Sheet'!F19/'Inc. Stmt.'!$F$5 -> 0.051929323 | H19: ='Bal. Sheet'!G19/'Inc. Stmt.'!$G$5 -> 0.054259131 | I19: ='Bal. Sheet'!H19/'Inc. Stmt.'!$H$5 -> 0.052439728 | J19: ='Bal. Sheet'!I19/'Inc. Stmt.'!$I$5 -> 0.052516047
A20: Customer and builder deposits | B20: =AVERAGE(C20:I20) -> 0.032164372 | C20: ='Bal. Sheet'!B20/'Inc. Stmt.'!$B$5 -> 0.051275802 | D20: ='Bal. Sheet'!C20/'Inc. Stmt.'!$C$5 -> 0.030257939 | E20: ='Bal. Sheet'!D20/'Inc. Stmt.'!$D$5 -> 0.039067807 | F20: ='Bal. Sheet'!E20/'Inc. Stmt.'!$E$5 -> 0.046055389 | G20: ='Bal. Sheet'!F20/'Inc. Stmt.'!$F$5 -> 0.016561677 | H20: ='Bal. Sheet'!G20/'Inc. Stmt.'!$G$5 -> 0.024271675 | I20: ='Bal. Sheet'!H20/'Inc. Stmt.'!$H$5 -> 0.017660318 | J20: ='Bal. Sheet'!I20/'Inc. Stmt.'!$I$5 -> 0.032164372
A21: Lease liabilities - operating leases | B21: =AVERAGE(C21:I21) -> 0.0029991944 | C21: ='Bal. Sheet'!B21/'Inc. Stmt.'!$B$5 -> 0 | D21: ='Bal. Sheet'!C21/'Inc. Stmt.'!$C$5 -> 0.0045019326 | E21: ='Bal. Sheet'!D21/'Inc. Stmt.'!$D$5 -> 0.002654656 | F21: ='Bal. Sheet'!E21/'Inc. Stmt.'!$E$5 -> 0.0033823374 | G21: ='Bal. Sheet'!F21/'Inc. Stmt.'!$F$5 -> 0.0020377826 | H21: ='Bal. Sheet'!G21/'Inc. Stmt.'!$G$5 -> 0.0044427944 | I21: ='Bal. Sheet'!H21/'Inc. Stmt.'!$H$5 -> 0.0039748578 | J21: ='Bal. Sheet'!I21/'Inc. Stmt.'!$I$5 -> 0.0041848056
A22: Borrowings on lines of credit, net | B22: =AVERAGE(F22:J22) -> 0.010044729 | C22: ='Bal. Sheet'!B22/'Inc. Stmt.'!$B$5 -> 0.32131318 | D22: ='Bal. Sheet'!C22/'Inc. Stmt.'!$C$5 -> 0.20797059 | E22: ='Bal. Sheet'!D22/'Inc. Stmt.'!$D$5 -> 0.1093081 | F22: ='Bal. Sheet'!E22/'Inc. Stmt.'!$E$5 -> 0.00052606218 | G22: ='Bal. Sheet'!F22/'Inc. Stmt.'!$F$5 -> 0.009895932 | H22: ='Bal. Sheet'!G22/'Inc. Stmt.'!$G$5 -> -0.0013095499 | I22: ='Bal. Sheet'!H22/'Inc. Stmt.'!$H$5 -> 0.010788764 | J22: ='Bal. Sheet'!I22/'Inc. Stmt.'!$I$5 -> 0.030322439
A23: Senior Notes | B23: =AVERAGE(C23:I23) -> 0.13832715 | C23: ='Bal. Sheet'!B25/'Inc. Stmt.'!$B$5 -> 0 | D23: ='Bal. Sheet'!C25/'Inc. Stmt.'!$C$5 -> 0.092724149 | E23: ='Bal. Sheet'!D25/'Inc. Stmt.'!$D$5 -> 0.11378444 | F23: ='Bal. Sheet'!E25/'Inc. Stmt.'!$E$5 -> 0.23911308 | G23: ='Bal. Sheet'!F25/'Inc. Stmt.'!$F$5 -> 0.19104923 | H23: ='Bal. Sheet'!G25/'Inc. Stmt.'!$G$5 -> 0.18912365 | I23: ='Bal. Sheet'!H25/'Inc. Stmt.'!$H$5 -> 0.14249553 | J23: ='Bal. Sheet'!I25/'Inc. Stmt.'!I$5 -> 0.14295123
A24: Notes payable | B24: =AVERAGE(C24:I24) -> 0.003576053 | C24: ='Bal. Sheet'!B23/'Inc. Stmt.'!$B$5 -> 0 | D24: ='Bal. Sheet'!C23/'Inc. Stmt.'!$C$5 -> 0 | E24: ='Bal. Sheet'!D23/'Inc. Stmt.'!$D$5 -> 0.0021772073 | F24: ='Bal. Sheet'!E23/'Inc. Stmt.'!$E$5 -> 0.00014969249 | G24: ='Bal. Sheet'!F23/'Inc. Stmt.'!$F$5 -> 0.0083183856 | H24: ='Bal. Sheet'!G23/'Inc. Stmt.'!$G$5 -> 0.0073020909 | I24: ='Bal. Sheet'!H23/'Inc. Stmt.'!$H$5 -> 0.0070849947 | J24: ='Bal. Sheet'!I23/'Inc. Stmt.'!$I$5 -> 0.0059336279
A25: Total Current Liabilities | B25: =AVERAGE(C25:I25) -> 0.19142243 | C25: ='Bal. Sheet'!B24/'Bal. Sheet'!B38 -> 0.366896 | D25: ='Bal. Sheet'!C24/'Bal. Sheet'!C38 -> 0.28195203 | E25: ='Bal. Sheet'!D24/'Bal. Sheet'!D38 -> 0.21688997 | F25: ='Bal. Sheet'!E24/'Bal. Sheet'!E38 -> 0.12472053 | G25: ='Bal. Sheet'!F24/'Bal. Sheet'!F38 -> 0.12550531 | H25: ='Bal. Sheet'!G24/'Bal. Sheet'!G38 -> 0.11166356 | I25: ='Bal. Sheet'!H24/'Bal. Sheet'!H38 -> 0.11232963 | J25: ='Bal. Sheet'!I24/'Bal. Sheet'!I38 -> 0.12887489
A26: Contingent consideration | B26: =AVERAGE(C26:I26) -> 0.0013146902 | C26: ='Bal. Sheet'!B26/'Bal. Sheet'!B$38 -> 0.0028149577 | D26: ='Bal. Sheet'!C26/'Bal. Sheet'!C$38 -> 0.0060157229 | E26: ='Bal. Sheet'!D26/'Bal. Sheet'!D$38 -> 0.0003721506 | F26: ='Bal. Sheet'!E26/'Bal. Sheet'!E$38 -> 0 | G26: ='Bal. Sheet'!F26/'Bal. Sheet'!F$38 -> 0 | H26: ='Bal. Sheet'!G26/'Bal. Sheet'!G$38 -> 0 | I26: ='Bal. Sheet'!H26/'Bal. Sheet'!H$38 -> 0 | J26: ='Bal. Sheet'!I26/'Bal. Sheet'!I$38 -> 0
A27: Total liabilities | B27: =AVERAGE(C27:I27) -> 0.32752004 | C27: ='Bal. Sheet'!B27/'Bal. Sheet'!B38 -> 0.36971095 | D27: ='Bal. Sheet'!C27/'Bal. Sheet'!C38 -> 0.37180868 | E27: ='Bal. Sheet'!D27/'Bal. Sheet'!D38 -> 0.3295707 | F27: ='Bal. Sheet'!E27/'Bal. Sheet'!E38 -> 0.35960185 | G27: ='Bal. Sheet'!F27/'Bal. Sheet'!F38 -> 0.32833799 | H27: ='Bal. Sheet'!G27/'Bal. Sheet'!G38 -> 0.28835126 | I27: ='Bal. Sheet'!H27/'Bal. Sheet'!H38 -> 0.24525888 | J27: ='Bal. Sheet'!I27/'Bal. Sheet'!I38 -> 0.24809949
A28: Redeemable noncontrolling interest in equity of consolidated subsidiary | B28: =AVERAGE(C28:I28) -> 0.016003199 | C28: ='Bal. Sheet'!B28/'Bal. Sheet'!B38 -> 0.010881017 | D28: ='Bal. Sheet'!C28/'Bal. Sheet'!C38 -> 0.015545852 | E28: ='Bal. Sheet'!D28/'Bal. Sheet'!D38 -> 0.013695749 | F28: ='Bal. Sheet'!E28/'Bal. Sheet'!E38 -> 0.015379076 | G28: ='Bal. Sheet'!F28/'Bal. Sheet'!F38 -> 0.017659867 | H28: ='Bal. Sheet'!G28/'Bal. Sheet'!G38 -> 0.018990116 | I28: ='Bal. Sheet'!H28/'Bal. Sheet'!H38 -> 0.01987072 | J28: ='Bal. Sheet'!I28/'Bal. Sheet'!I38 -> 0.02529811
A29: Green Brick Partners, Inc. stockholders’ equity
A30: Common shares, $0.01 par value: 100,000,000 shares authorized; | B30: =AVERAGE(C30:I30) -> 0.00040236108 | C30: ='Bal. Sheet'!B31/'Bal. Sheet'!$B$38 -> 0.00064666223 | D30: ='Bal. Sheet'!C31/'Bal. Sheet'!$C$38 -> 0.00058135617 | E30: ='Bal. Sheet'!D31/'Bal. Sheet'!$D$38 -> 0.00051676346 | F30: ='Bal. Sheet'!E31/'Bal. Sheet'!$E$38 -> 0.00036008994 | G30: ='Bal. Sheet'!F31/'Bal. Sheet'!$F$38 -> 0.0002778323 | H30: ='Bal. Sheet'!G31/'Bal. Sheet'!$G$38 -> 0.00023648961 | I30: ='Bal. Sheet'!H31/'Bal. Sheet'!$H$38 -> 0.00019733386 | J30: ='Bal. Sheet'!I31/'Bal. Sheet'!$I$38 -> 0.00017689872
A31: Treasury stock at cost, 136,756 shares | B31: =AVERAGE(C31:I31) -> 8.0234105e-05 | C31: ='Bal. Sheet'!B32/'Bal. Sheet'!$B$38 -> -0.001251234 | D31: ='Bal. Sheet'!C32/'Bal. Sheet'!$C$38 -> -0.0036172004 | E31: ='Bal. Sheet'!D32/'Bal. Sheet'!$D$38 -> 0.0032027199 | F31: ='Bal. Sheet'!E32/'Bal. Sheet'!$E$38 -> 0.0022273532 | G31: ='Bal. Sheet'!F32/'Bal. Sheet'!$F$38 -> 0 | H31: ='Bal. Sheet'!G32/'Bal. Sheet'!$G$38 -> 0 | I31: ='Bal. Sheet'!H32/'Bal. Sheet'!H$38 -> 0 | J31: ='Bal. Sheet'!I32/'Bal. Sheet'!$I$38 -> 0
A32: Additional paid-in capital | B32: =AVERAGE(C32:I32) -> 0.22909735 | C32: ='Bal. Sheet'!B33/'Bal. Sheet'!$B$38 -> 0.37154253 | D32: ='Bal. Sheet'!C33/'Bal. Sheet'!$C$38 -> 0.33213712 | E32: ='Bal. Sheet'!D33/'Bal. Sheet'!$D$38 -> 0.29654942 | F32: ='Bal. Sheet'!E33/'Bal. Sheet'!$E$38 -> 0.20370471 | G32: ='Bal. Sheet'!F33/'Bal. Sheet'!$F$38 -> 0.1566793 | H32: ='Bal. Sheet'!G33/'Bal. Sheet'!$G$38 -> 0.13433346 | I32: ='Bal. Sheet'!H33/'Bal. Sheet'!$H$38 -> 0.10873496 | J32: ='Bal. Sheet'!I33/'Bal. Sheet'!$I$38 -> 0.099001965
A33: Retained earnings | B33: =AVERAGE(C33:I33) -> 0.40000815 | C33: ='Bal. Sheet'!B34/'Bal. Sheet'!$B$38 -> 0.22642872 | D33: ='Bal. Sheet'!C34/'Bal. Sheet'!$C$38 -> 0.26843693 | E33: ='Bal. Sheet'!D34/'Bal. Sheet'!$D$38 -> 0.3535997 | F33: ='Bal. Sheet'!E34/'Bal. Sheet'!$E$38 -> 0.37968811 | G33: ='Bal. Sheet'!F34/'Bal. Sheet'!$F$38 -> 0.45560934 | H33: ='Bal. Sheet'!G34/'Bal. Sheet'!$G$38 -> 0.52397532 | I33: ='Bal. Sheet'!H34/'Bal. Sheet'!$H$38 -> 0.59231891 | J33: ='Bal. Sheet'!I34/'Bal. Sheet'!$I$38 -> 0.59388905
A34: Total Green Brick Partners, Inc. stockholders’ equity | B34: =AVERAGE(C34:I34) -> 0.64354044 | C34: ='Bal. Sheet'!B35/'Bal. Sheet'!$B$38 -> 0.59736667 | D34: ='Bal. Sheet'!C35/'Bal. Sheet'!$C$38 -> 0.5975382 | E34: ='Bal. Sheet'!D35/'Bal. Sheet'!$D$38 -> 0.64746316 | F34: ='Bal. Sheet'!E35/'Bal. Sheet'!$E$38 -> 0.61507019 | G34: ='Bal. Sheet'!F35/'Bal. Sheet'!$F$38 -> 0.64137406 | H34: ='Bal. Sheet'!G35/'Bal. Sheet'!$G$38 -> 0.68356219 | I34: ='Bal. Sheet'!H35/'Bal. Sheet'!$H$38 -> 0.72240859 | J34: ='Bal. Sheet'!I35/'Bal. Sheet'!$I$38 -> 0.72708156
A35: Noncontrolling interests | B35: =AVERAGE(C35:I35) -> 0.012936321 | C35: ='Bal. Sheet'!B36/'Bal. Sheet'!$B$38 -> 0.022041361 | D35: ='Bal. Sheet'!C36/'Bal. Sheet'!$C$38 -> 0.015107265 | E35: ='Bal. Sheet'!D36/'Bal. Sheet'!$D$38 -> 0.0092703927 | F35: ='Bal. Sheet'!E36/'Bal. Sheet'!$E$38 -> 0.0099488911 | G35: ='Bal. Sheet'!F36/'Bal. Sheet'!$F$38 -> 0.012628082 | H35: ='Bal. Sheet'!G36/'Bal. Sheet'!$G$38 -> 0.0090964415 | I35: ='Bal. Sheet'!H36/'Bal. Sheet'!$H$38 -> 0.012461811 | J35: ='Bal. Sheet'!I36/'Bal. Sheet'!$I$38 -> 0.011071281
A36: Total stockholders’ equity | B36: =AVERAGE(C36:I36) -> 0.65647676 | C36: ='Bal. Sheet'!B37/'Bal. Sheet'!$B$38 -> 0.61940803 | D36: ='Bal. Sheet'!C37/'Bal. Sheet'!$C$38 -> 0.61264547 | E36: ='Bal. Sheet'!D37/'Bal. Sheet'!$D$38 -> 0.65673355 | F36: ='Bal. Sheet'!E37/'Bal. Sheet'!$E$38 -> 0.62501908 | G36: ='Bal. Sheet'!F37/'Bal. Sheet'!$F$38 -> 0.65400214 | H36: ='Bal. Sheet'!G37/'Bal. Sheet'!$G$38 -> 0.69265863 | I36: ='Bal. Sheet'!H37/'Bal. Sheet'!$H$38 -> 0.7348704 | J36: ='Bal. Sheet'!I37/'Bal. Sheet'!$I$38 -> 0.73815284
A37: Total liabilities and stockholders’ equity | B37: =AVERAGE(C37:I37) -> 1 | C37: ='Bal. Sheet'!B38/'Bal. Sheet'!B38 -> 1 | D37: ='Bal. Sheet'!C38/'Bal. Sheet'!C38 -> 1 | E37: ='Bal. Sheet'!D38/'Bal. Sheet'!D38 -> 1 | F37: ='Bal. Sheet'!E38/'Bal. Sheet'!E38 -> 1 | G37: ='Bal. Sheet'!F38/'Bal. Sheet'!F38 -> 1 | H37: ='Bal. Sheet'!G38/'Bal. Sheet'!G38 -> 1 | I37: ='Bal. Sheet'!H38/'Bal. Sheet'!H38 -> 1 | J37: ='Bal. Sheet'!I38/'Bal. Sheet'!I38 -> 1

Sheet Q Bal. Sheet
A1: Quarterly Balance Sheet
A2: Consolidated Balance Sheets - USD ($) $ in Thousands | B2: 1Q22 | C2: 2Q22 | D2: 3Q22 | E2: 4Q22 | F2: 1Q23 | G2: 2Q23 | H2: 3Q23 | I2: 4Q23 | J2: 1Q24 | K2: 2Q24 | L2: 3Q24 | M2: 4Q24 | N2: 1Q25 | O2: 2Q25 | P2: 3Q25 | Q2: 4Q25E
A3: Assets
A4: Cash and cash equivalents | B4: 66083 | C4: 66765 | D4: 48203 | E4: 76588 | F4: 177271 | G4: 209595 | H4: 223453 | I4: 179756 | J4: 185897 | K4: 133294 | L4: 80069 | M4: 141543 | N4: 103003 | O4: 112459 | P4: 142426 | Q4: =P4*(1+1.15%) -> 144063.9
